BEGIN:VCALENDAR
VERSION:2.0
PRODID:-//Villy-le-Bouveret - ECPv5.12.2//NONSGML v1.0//EN
CALSCALE:GREGORIAN
METHOD:PUBLISH
X-WR-CALNAME:Villy-le-Bouveret
X-ORIGINAL-URL:https://villy-le-bouveret.fr
X-WR-CALDESC:évènements pour Villy-le-Bouveret
BEGIN:VTIMEZONE
TZID:Europe/Paris
BEGIN:DAYLIGHT
TZOFFSETFROM:+0100
TZOFFSETTO:+0200
TZNAME:CEST
DTSTART:20260329T010000
END:DAYLIGHT
BEGIN:STANDARD
TZOFFSETFROM:+0200
TZOFFSETTO:+0100
TZNAME:CET
DTSTART:20261025T010000
END:STANDARD
END:VTIMEZONE
BEGIN:VEVENT
DTSTART;TZID=Europe/Paris:20260530T140000
DTEND;TZID=Europe/Paris:20260530T230000
DTSTAMP:20260420T164356
CREATED:20260420T080851Z
LAST-MODIFIED:20260420T081629Z
UID:8686-1780149600-1780182000@villy-le-bouveret.fr
SUMMARY:Moby Mythic
DESCRIPTION:
URL:https://villy-le-bouveret.fr/agenda/moby-mythic-2
END:VEVENT
END:VCALENDAR